BEGIN:VCALENDAR
VERSION:2.0
PRODID:-//Arbor - ECPv6.15.16//NONSGML v1.0//EN
CALSCALE:GREGORIAN
METHOD:PUBLISH
X-ORIGINAL-URL:https://arbor.edu.tt
X-WR-CALDESC:Events for Arbor
REFRESH-INTERVAL;VALUE=DURATION:PT1H
X-Robots-Tag:noindex
X-PUBLISHED-TTL:PT1H
BEGIN:VTIMEZONE
TZID:America/Halifax
BEGIN:DAYLIGHT
TZOFFSETFROM:-0400
TZOFFSETTO:-0300
TZNAME:ADT
DTSTART:20230312T060000
END:DAYLIGHT
BEGIN:STANDARD
TZOFFSETFROM:-0300
TZOFFSETTO:-0400
TZNAME:AST
DTSTART:20231105T050000
END:STANDARD
BEGIN:DAYLIGHT
TZOFFSETFROM:-0400
TZOFFSETTO:-0300
TZNAME:ADT
DTSTART:20240310T060000
END:DAYLIGHT
BEGIN:STANDARD
TZOFFSETFROM:-0300
TZOFFSETTO:-0400
TZNAME:AST
DTSTART:20241103T050000
END:STANDARD
BEGIN:DAYLIGHT
TZOFFSETFROM:-0400
TZOFFSETTO:-0300
TZNAME:ADT
DTSTART:20250309T060000
END:DAYLIGHT
BEGIN:STANDARD
TZOFFSETFROM:-0300
TZOFFSETTO:-0400
TZNAME:AST
DTSTART:20251102T050000
END:STANDARD
BEGIN:DAYLIGHT
TZOFFSETFROM:-0400
TZOFFSETTO:-0300
TZNAME:ADT
DTSTART:20260308T060000
END:DAYLIGHT
BEGIN:STANDARD
TZOFFSETFROM:-0300
TZOFFSETTO:-0400
TZNAME:AST
DTSTART:20261101T050000
END:STANDARD
END:VTIMEZONE
BEGIN:VEVENT
DTSTART;TZID=America/Halifax:20250304T080000
DTEND;TZID=America/Halifax:20250304T140000
DTSTAMP:20260420T102516
CREATED:20250219T171327Z
LAST-MODIFIED:20250219T171429Z
UID:2243-1741075200-1741096800@arbor.edu.tt
SUMMARY:Carnival Tuesday – No School
DESCRIPTION:
URL:https://arbor.edu.tt/event/carnival-tuesday-no-school/
CATEGORIES:Holiday
END:VEVENT
BEGIN:VEVENT
DTSTART;TZID=America/Halifax:20250228T080000
DTEND;TZID=America/Halifax:20250228T140000
DTSTAMP:20260420T102516
CREATED:20250219T171213Z
LAST-MODIFIED:20250219T171213Z
UID:2239-1740729600-1740751200@arbor.edu.tt
SUMMARY:Mid Term Holiday – No School
DESCRIPTION:
URL:https://arbor.edu.tt/event/mid-term-holiday-no-school/
CATEGORIES:Holiday
END:VEVENT
BEGIN:VEVENT
DTSTART;VALUE=DATE:20250101
DTEND;VALUE=DATE:20250102
DTSTAMP:20260420T102516
CREATED:20241120T154351Z
LAST-MODIFIED:20241120T154351Z
UID:2182-1735689600-1735775999@arbor.edu.tt
SUMMARY:Happy New Year
DESCRIPTION:
URL:https://arbor.edu.tt/event/happy-new-year/
CATEGORIES:Holiday
ATTACH;FMTTYPE=image/jpeg:https://arbor.edu.tt/wp-content/uploads/2024/11/360_F_176799923_ChXFBBm45gojI8PDfFBce7YlAWqYEtbH.jpg
END:VEVENT
BEGIN:VEVENT
DTSTART;VALUE=DATE:20241225
DTEND;VALUE=DATE:20241226
DTSTAMP:20260420T102516
CREATED:20241120T153727Z
LAST-MODIFIED:20241120T153727Z
UID:2176-1735084800-1735171199@arbor.edu.tt
SUMMARY:Merry Christmas
DESCRIPTION:
URL:https://arbor.edu.tt/event/merry-christmas/
CATEGORIES:Holiday
ATTACH;FMTTYPE=image/jpeg:https://arbor.edu.tt/wp-content/uploads/2024/11/360_F_396947429_u9AXJR6QTjSTfAKjXtSGSsYpqpMOPeBA.jpg
END:VEVENT
BEGIN:VEVENT
DTSTART;VALUE=DATE:20241101
DTEND;VALUE=DATE:20241102
DTSTAMP:20260420T102516
CREATED:20241119T225145Z
LAST-MODIFIED:20241119T225349Z
UID:2094-1730419200-1730505599@arbor.edu.tt
SUMMARY:Mid Term Holiday
DESCRIPTION:
URL:https://arbor.edu.tt/event/mid-term-holiday/
LOCATION:Arbor Pre and Primary Schools\, 129 Long Circular Road\, Maraval\, Trinidad and Tobago
CATEGORIES:Holiday
END:VEVENT
END:VCALENDAR